BEGIN:VCALENDAR
VERSION:2.0
PRODID:-//Plone.org//NONSGML plone.app.event//EN
X-WR-TIMEZONE:Europe/Berlin
BEGIN:VEVENT
SUMMARY:Schwerpunkt- und Nebenfachklausur Internationales Privatrecht
DTSTART;TZID=Europe/Berlin:20260219T100000
DTEND;TZID=Europe/Berlin:20260219T120000
DTSTAMP:20260421T121342Z
UID:c04dec002817416d81c5b2eb875c5f72@www.uni-marburg.de
CREATED:20260202T095846Z
DESCRIPTION:https://www.uni-marburg.de/de/fb01/aktuelles/termine/schwerpun
 kt-und-nebenfachklausur-internationales-privatrecht\n
LAST-MODIFIED:20260202T102325Z
LOCATION:Hörsaal Physik
URL:https://www.uni-marburg.de/de/fb01/aktuelles/termine/schwerpunkt-und-n
 ebenfachklausur-internationales-privatrecht
END:VEVENT
BEGIN:VTIMEZONE
TZID:Europe/Berlin
X-LIC-LOCATION:Europe/Berlin
BEGIN:STANDARD
DTSTART:20251026T020000
TZNAME:CET
TZOFFSETFROM:+0200
TZOFFSETTO:+0100
END:STANDARD
END:VTIMEZONE
END:VCALENDAR
