BEGIN:VCALENDAR
VERSION:2.0
PRODID:-//Plone.org//NONSGML plone.app.event//EN
X-WR-TIMEZONE:Europe/Berlin
BEGIN:VEVENT
SUMMARY:Schwerpunkt- und Nebenfachklausur Vertragsarztrecht
DTSTART;TZID=Europe/Berlin:20260219T100000
DTEND;TZID=Europe/Berlin:20260219T120000
DTSTAMP:20260421T041731Z
UID:821b27d29cac4dea9a356ccb5545a65d@www.uni-marburg.de
CREATED:20260202T100033Z
DESCRIPTION:https://www.uni-marburg.de/de/fb01/aktuelles/termine/schwerpun
 kt-und-nebenfachklausur-vertragsarztrecht\n
LAST-MODIFIED:20260202T102304Z
LOCATION:Hörsaal Physik
URL:https://www.uni-marburg.de/de/fb01/aktuelles/termine/schwerpunkt-und-n
 ebenfachklausur-vertragsarztrecht
END:VEVENT
BEGIN:VTIMEZONE
TZID:Europe/Berlin
X-LIC-LOCATION:Europe/Berlin
BEGIN:STANDARD
DTSTART:20251026T020000
TZNAME:CET
TZOFFSETFROM:+0200
TZOFFSETTO:+0100
END:STANDARD
END:VTIMEZONE
END:VCALENDAR
