BEGIN:VCALENDAR
VERSION:2.0
PRODID:-//Plone.org//NONSGML plone.app.event//EN
X-WR-TIMEZONE:Europe/Berlin
BEGIN:VEVENT
SUMMARY:19. Marburger Symposium zum Lebensmittelrecht 2025
DTSTART;VALUE=DATE:20251204
DTEND;VALUE=DATE:20251205
DTSTAMP:20260426T034548Z
UID:e5d6554ce9ae4ccca5adc8237b68b4d5@www.uni-marburg.de
CREATED:20250226T133936Z
DESCRIPTION:https://www.uni-marburg.de/de/fb01/forschung/forschungszentrum
 -und-projekte/forschungsstellen/lebensmittelrecht-marburg/aktuelles/termin
 e/19-marburger-symposium-zum-lebensmittelrecht-2025\n
LAST-MODIFIED:20251209T172253Z
LOCATION:Marburg
URL:https://www.uni-marburg.de/de/fb01/forschung/forschungszentrum-und-pro
 jekte/forschungsstellen/lebensmittelrecht-marburg/aktuelles/termine/19-mar
 burger-symposium-zum-lebensmittelrecht-2025
END:VEVENT
END:VCALENDAR
