BEGIN:VCALENDAR
VERSION:2.0
PRODID:-//Plone.org//NONSGML plone.app.event//EN
X-WR-TIMEZONE:Europe/Berlin
BEGIN:VEVENT
SUMMARY:20. Lebensmittelrechtsakademie 2025 - Block I
DTSTART;VALUE=DATE:20250925
DTEND;VALUE=DATE:20250928
DTSTAMP:20260426T052427Z
UID:653e292305514d009ea9f3f3262f0f47@www.uni-marburg.de
CREATED:20250226T135325Z
DESCRIPTION:https://www.uni-marburg.de/de/fb01/forschung/forschungszentrum
 -und-projekte/forschungsstellen/lebensmittelrecht-marburg/aktuelles/termin
 e/20-lebensmittelrechtsakademie-2025-block-i\n
LAST-MODIFIED:20251209T172253Z
LOCATION:Marburg
URL:https://www.uni-marburg.de/de/fb01/forschung/forschungszentrum-und-pro
 jekte/forschungsstellen/lebensmittelrecht-marburg/aktuelles/termine/20-leb
 ensmittelrechtsakademie-2025-block-i
END:VEVENT
END:VCALENDAR
