BEGIN:VCALENDAR
VERSION:2.0
PRODID:-//Plone.org//NONSGML plone.app.event//EN
X-WR-TIMEZONE:Europe/Berlin
BEGIN:VEVENT
SUMMARY:20. Lebensmittelrechtsakademie 2025 - Block II (KW 47)
DTSTART;VALUE=DATE:20251118
DTEND;VALUE=DATE:20251121
DTSTAMP:20260426T041525Z
UID:5cabd4eb10da4338875b8cdda26bf75f@www.uni-marburg.de
CREATED:20250226T143231Z
DESCRIPTION:https://www.uni-marburg.de/de/fb01/forschung/forschungszentrum
 -und-projekte/forschungsstellen/lebensmittelrecht-marburg/aktuelles/termin
 e/20-lebensmittelrechtsakademie-2025-block-ii-kw-47\n
LAST-MODIFIED:20251209T172253Z
LOCATION:Online
URL:https://www.uni-marburg.de/de/fb01/forschung/forschungszentrum-und-pro
 jekte/forschungsstellen/lebensmittelrecht-marburg/aktuelles/termine/20-leb
 ensmittelrechtsakademie-2025-block-ii-kw-47
END:VEVENT
END:VCALENDAR
