BEGIN:VCALENDAR
VERSION:2.0
PRODID:-//Plone.org//NONSGML plone.app.event//EN
X-WR-TIMEZONE:Europe/Berlin
BEGIN:VEVENT
SUMMARY:20. Lebensmittelrechtsakademie 2025 - Block III
DTSTART;VALUE=DATE:20251130
DTEND;VALUE=DATE:20251204
DTSTAMP:20260426T020636Z
UID:f70e4f4b35264d79b44711592fba63ca@www.uni-marburg.de
CREATED:20250226T140030Z
DESCRIPTION:https://www.uni-marburg.de/de/fb01/forschung/forschungszentrum
 -und-projekte/forschungsstellen/lebensmittelrecht-marburg/aktuelles/termin
 e/20-lebensmittelrechtsakademie-2025-block-iii\n
LAST-MODIFIED:20251209T172253Z
LOCATION:Marburg
URL:https://www.uni-marburg.de/de/fb01/forschung/forschungszentrum-und-pro
 jekte/forschungsstellen/lebensmittelrecht-marburg/aktuelles/termine/20-leb
 ensmittelrechtsakademie-2025-block-iii
END:VEVENT
END:VCALENDAR
