BEGIN:VCALENDAR
VERSION:2.0
PRODID:-//Plone.org//NONSGML plone.app.event//EN
X-WR-TIMEZONE:Europe/Berlin
BEGIN:VEVENT
SUMMARY:Gründen im Studium – Ideen und Geschäftsmodelle entwickeln
DTSTART;VALUE=DATE:20210520
DTEND;VALUE=DATE:20210522
DTSTAMP:20260425T235100Z
UID:a75d5f5ad04049669c4318c7553606a4@www.uni-marburg.de
ATTENDEE;CN="Julian Winter";ROLE=REQ-PARTICIPANT:Julian Winter
ATTENDEE;CN="Björn Langenberg";ROLE=REQ-PARTICIPANT:Björn Langenberg
CREATED:20210420T130231Z
DESCRIPTION:https://www.uni-marburg.de/de/fb02/forschung/forschungsinstitu
 te/mafex/aktuelles/termine/gruenden-im-studium-ideen-und-geschaeftsmodelle
 -entwickeln\nIhr lernt innerhalb der 2 Tage mit uns gemeinsam Geschäftsid
 een zu entwickeln und einen ersten Geschäftsmodellprototyp zu erstellen
LAST-MODIFIED:20220201T150430Z
LOCATION:Online
URL:https://www.uni-marburg.de/de/fb02/forschung/forschungsinstitute/mafex
 /aktuelles/termine/gruenden-im-studium-ideen-und-geschaeftsmodelle-entwick
 eln
END:VEVENT
END:VCALENDAR
