BEGIN:VCALENDAR
VERSION:2.0
PRODID:-//Plone.org//NONSGML plone.app.event//EN
X-WR-TIMEZONE:Europe/Berlin
BEGIN:VEVENT
SUMMARY:Marburger Startup-Talk
DTSTART;TZID=Europe/Berlin:20220629T190000
DTEND;TZID=Europe/Berlin:20220629T203000
DTSTAMP:20260421T230727Z
UID:60b8df4e46b24c2f81b6c9ac678ec3e8@www.uni-marburg.de
RRULE:FREQ=WEEKLY;COUNT=7;BYDAY=WE
EXDATE;TZID=Europe/Berlin:20220720T190000,20220727T190000,20220803T190000,
 20220810T190000
CREATED:20220622T173203Z
DESCRIPTION:https://www.uni-marburg.de/de/fb02/forschung/forschungsinstitu
 te/mafex/aktuelles/termine/marburger-startup-talk\n
LAST-MODIFIED:20220622T174008Z
LOCATION:Online
URL:https://www.uni-marburg.de/de/fb02/forschung/forschungsinstitute/mafex
 /aktuelles/termine/marburger-startup-talk
END:VEVENT
BEGIN:VTIMEZONE
TZID:Europe/Berlin
X-LIC-LOCATION:Europe/Berlin
BEGIN:DAYLIGHT
DTSTART:20220327T030000
TZNAME:CEST
TZOFFSETFROM:+0100
TZOFFSETTO:+0200
END:DAYLIGHT
END:VTIMEZONE
END:VCALENDAR
