BEGIN:VCALENDAR
VERSION:2.0
PRODID:-//Plone.org//NONSGML plone.app.event//EN
X-WR-TIMEZONE:Europe/Berlin
BEGIN:VEVENT
SUMMARY:The Founder Summit
DTSTART;VALUE=DATE:20220827
DTEND;VALUE=DATE:20220829
DTSTAMP:20260423T232944Z
UID:0fa074455c1245999d50a8b5d59e47dc@www.uni-marburg.de
CREATED:20220817T084346Z
DESCRIPTION:https://www.uni-marburg.de/de/fb02/forschung/forschungsinstitu
 te/mafex/aktuelles/termine/the-founder-summit\n
LAST-MODIFIED:20220817T084409Z
LOCATION:Wiesbaden Rhein Main Congress Center
URL:https://www.uni-marburg.de/de/fb02/forschung/forschungsinstitute/mafex
 /aktuelles/termine/the-founder-summit
END:VEVENT
END:VCALENDAR
