BEGIN:VCALENDAR
VERSION:2.0
PRODID:-//Plone.org//NONSGML plone.app.event//EN
X-WR-TIMEZONE:Europe/Berlin
BEGIN:VEVENT
SUMMARY:Gastvortrag zu Sportsponsoring am Beispiel der Adidas AG von Herrn
  Jäger
DTSTART;TZID=Europe/Berlin:20180604T120000
DTEND;TZID=Europe/Berlin:20180604T140000
DTSTAMP:20260425T202036Z
UID:199db8eafa874128a3258ce2dc0d0495@www.uni-marburg.de
ATTENDEE;CN="Björn Jäger, Senior Director Brand Activation Adidas AG";RO
 LE=REQ-PARTICIPANT:Björn Jäger, Senior Director Brand Activation Adidas 
 AG
CREATED:20180403T091637Z
DESCRIPTION:https://www.uni-marburg.de/de/fb02/professuren/bwl/bwl03/nachr
 ichten/events/gastvortrag-adidas\n
LAST-MODIFIED:20180404T191319Z
LOCATION:Hörsaalgebäude\, +2/0010 (Audimax)
URL:https://www.uni-marburg.de/de/fb02/professuren/bwl/bwl03/nachrichten/e
 vents/gastvortrag-adidas
END:VEVENT
BEGIN:VTIMEZONE
TZID:Europe/Berlin
X-LIC-LOCATION:Europe/Berlin
BEGIN:DAYLIGHT
DTSTART:20180325T030000
TZNAME:CEST
TZOFFSETFROM:+0100
TZOFFSETTO:+0200
END:DAYLIGHT
END:VTIMEZONE
END:VCALENDAR
