BEGIN:VCALENDAR
VERSION:2.0
PRODID:-//Plone.org//NONSGML plone.app.event//EN
X-WR-TIMEZONE:Europe/Berlin
BEGIN:VEVENT
SUMMARY:2020 als Jahr von Chancen und Wellbeing? - Ein Aufriss
DTSTART;TZID=Europe/Berlin:20210414T180000
DTEND;TZID=Europe/Berlin:20210414T200000
DTSTAMP:20260423T171046Z
UID:23c0150720704346828c07f25ba46324@www.uni-marburg.de
ATTENDEE;CN="Prof. Dr. Ina Dietzsch ";ROLE=REQ-PARTICIPANT:Prof. Dr. Ina D
 ietzsch 
CREATED:20210331T125752Z
DESCRIPTION:https://www.uni-marburg.de/de/fb03/ekw/aktuelles/termine/2020-
 als-jahr-von-chancen-und-wellbeing-ein-aufriss\n
LAST-MODIFIED:20240524T060948Z
LOCATION:Online
URL:https://www.uni-marburg.de/de/fb03/ekw/aktuelles/termine/2020-als-jahr
 -von-chancen-und-wellbeing-ein-aufriss
END:VEVENT
BEGIN:VTIMEZONE
TZID:Europe/Berlin
X-LIC-LOCATION:Europe/Berlin
BEGIN:DAYLIGHT
DTSTART:20210328T030000
TZNAME:CEST
TZOFFSETFROM:+0100
TZOFFSETTO:+0200
END:DAYLIGHT
END:VTIMEZONE
END:VCALENDAR
