BEGIN:VCALENDAR
VERSION:2.0
PRODID:-//Plone.org//NONSGML plone.app.event//EN
X-WR-TIMEZONE:Europe/Berlin
BEGIN:VEVENT
SUMMARY:Achtung Tierseuche: Herausforderung für Mensch und Tier - Karolin
 e Schramm (Kitzingen-Würzburg)
DTSTART;TZID=Europe/Berlin:20220512T121500
DTSTAMP:20260426T001959Z
UID:d3fe8b778b344defabbded148a50e825@www.uni-marburg.de
ATTENDEE;CN="Karoline Schramm (Kitzingen-Würzburg)";ROLE=REQ-PARTICIPANT:
 Karoline Schramm (Kitzingen-Würzburg)
CREATED:20220429T142542Z
DESCRIPTION:https://www.uni-marburg.de/de/fb03/ekw/aktuelles/termine/achtu
 ng-tierseuche-herausforderung-fuer-mensch-und-tier-karoline-schramm-kitzin
 gen-wuerzburg\n
LAST-MODIFIED:20240524T060952Z
LOCATION:Zoom
URL:https://www.uni-marburg.de/de/fb03/ekw/aktuelles/termine/achtung-tiers
 euche-herausforderung-fuer-mensch-und-tier-karoline-schramm-kitzingen-wuer
 zburg
END:VEVENT
BEGIN:VTIMEZONE
TZID:Europe/Berlin
X-LIC-LOCATION:Europe/Berlin
BEGIN:DAYLIGHT
DTSTART:20220327T030000
TZNAME:CEST
TZOFFSETFROM:+0100
TZOFFSETTO:+0200
END:DAYLIGHT
END:VTIMEZONE
END:VCALENDAR
