BEGIN:VCALENDAR
VERSION:2.0
PRODID:-//Plone.org//NONSGML plone.app.event//EN
X-WR-TIMEZONE:Europe/Berlin
BEGIN:VEVENT
SUMMARY:Angst\, (Un)Sicherheitsgefühle\, Krisen – Emotionen gegenwärti
 ger Sicherheitslagen und ob man ihnen trauen sollte?
DTSTART;TZID=Europe/Berlin:20240702T181500
DTSTAMP:20260425T212907Z
UID:cf2a865b123e456c9fd0582348511bad@www.uni-marburg.de
ATTENDEE;CN="Prof. Dr. Nils Zurawski (Akademie der Polizei Hamburg)";ROLE=
 REQ-PARTICIPANT:Prof. Dr. Nils Zurawski (Akademie der Polizei Hamburg)
CREATED:20240418T083753Z
DESCRIPTION:https://www.uni-marburg.de/de/fb03/ekw/aktuelles/termine/angst
 -un-sicherheitsgefuehle-krisen-emotionen-gegenwaertiger-sicherheitslagen-u
 nd-ob-man-ihnen-trauen-sollte\nTeil der Ringvorlesung "Gefühlswelten. Per
 spektiven der Emotionsforschung"
LAST-MODIFIED:20240524T060953Z
LOCATION:Hörsaal Deutschhausstraße 3\, 1. Stock [Raum +1(1090)] und onli
 ne
URL:https://www.uni-marburg.de/de/fb03/ekw/aktuelles/termine/angst-un-sich
 erheitsgefuehle-krisen-emotionen-gegenwaertiger-sicherheitslagen-und-ob-ma
 n-ihnen-trauen-sollte
END:VEVENT
BEGIN:VTIMEZONE
TZID:Europe/Berlin
X-LIC-LOCATION:Europe/Berlin
BEGIN:DAYLIGHT
DTSTART:20240331T030000
TZNAME:CEST
TZOFFSETFROM:+0100
TZOFFSETTO:+0200
END:DAYLIGHT
END:VTIMEZONE
END:VCALENDAR
