BEGIN:VCALENDAR
VERSION:2.0
PRODID:-//Plone.org//NONSGML plone.app.event//EN
X-WR-TIMEZONE:Europe/Berlin
BEGIN:VEVENT
SUMMARY:Antrittsvorlesung Prof. Dr. Ina Dietzsch: "Momente Posthumaner Gew
 öhnung"
DTSTART;TZID=Europe/Berlin:20221026T180000
DTSTAMP:20260425T054020Z
UID:96ddb32f45a24f90baf0a08a30022af3@www.uni-marburg.de
ATTENDEE;CN="Prof. Dr. Ina Dietzsch ";ROLE=REQ-PARTICIPANT:Prof. Dr. Ina D
 ietzsch 
CREATED:20220922T143540Z
DESCRIPTION:https://www.uni-marburg.de/de/fb03/ekw/aktuelles/termine/antri
 ttsvorlesung-prof-dr-ina-dietzsch-momente-poshumaner-gewoehnung\n
LAST-MODIFIED:20240524T060952Z
LOCATION:Deutschhausstraße 9\, 35032 Marburg
URL:https://www.uni-marburg.de/de/fb03/ekw/aktuelles/termine/antrittsvorle
 sung-prof-dr-ina-dietzsch-momente-poshumaner-gewoehnung
END:VEVENT
BEGIN:VTIMEZONE
TZID:Europe/Berlin
X-LIC-LOCATION:Europe/Berlin
BEGIN:DAYLIGHT
DTSTART:20220327T030000
TZNAME:CEST
TZOFFSETFROM:+0100
TZOFFSETTO:+0200
END:DAYLIGHT
END:VTIMEZONE
END:VCALENDAR
