BEGIN:VCALENDAR
VERSION:2.0
PRODID:-//Plone.org//NONSGML plone.app.event//EN
X-WR-TIMEZONE:Europe/Berlin
BEGIN:VEVENT
SUMMARY:Atmosphären\, Geräusche und Klänge. Lautsphären und ihre menta
 le Verarbeitung - Manfred Seifert
DTSTART;TZID=Europe/Berlin:20220531T181500
DTEND;TZID=Europe/Berlin:20220531T194500
DTSTAMP:20260420T144701Z
UID:a421b456f88d4269817782c5c77c26d7@www.uni-marburg.de
ATTENDEE;CN="Manfred Seifert (Marburg) ";ROLE=REQ-PARTICIPANT:Manfred Seif
 ert (Marburg) 
CREATED:20220422T085128Z
DESCRIPTION:https://www.uni-marburg.de/de/fb03/ekw/aktuelles/termine/atmos
 phaeren-geraeusche-klaenge-manfred-seifert\n
LAST-MODIFIED:20240524T060951Z
LOCATION:Big Blue Button
URL:https://www.uni-marburg.de/de/fb03/ekw/aktuelles/termine/atmosphaeren-
 geraeusche-klaenge-manfred-seifert
END:VEVENT
BEGIN:VTIMEZONE
TZID:Europe/Berlin
X-LIC-LOCATION:Europe/Berlin
BEGIN:DAYLIGHT
DTSTART:20220327T030000
TZNAME:CEST
TZOFFSETFROM:+0100
TZOFFSETTO:+0200
END:DAYLIGHT
END:VTIMEZONE
END:VCALENDAR
