BEGIN:VCALENDAR
VERSION:2.0
PRODID:-//Plone.org//NONSGML plone.app.event//EN
X-WR-TIMEZONE:Europe/Berlin
BEGIN:VEVENT
SUMMARY:Der Arztberuf mit kulturwissenschaftlichem Know-how
DTSTART;TZID=Europe/Berlin:20210505T180000
DTEND;TZID=Europe/Berlin:20210505T200000
DTSTAMP:20260421T065214Z
UID:0e574bcfc59e4dd184cc5017b6d32b63@www.uni-marburg.de
ATTENDEE;CN="Moderation: Dr. Antje van Elsbergen (Marburg)";ROLE=REQ-PARTI
 CIPANT:Moderation: Dr. Antje van Elsbergen (Marburg)
CREATED:20210406T141213Z
DESCRIPTION:https://www.uni-marburg.de/de/fb03/ekw/aktuelles/termine/der-a
 rztberuf-mit-kulturwissenschaftlichem-know-how\n
LAST-MODIFIED:20240524T060949Z
LOCATION:Online
URL:https://www.uni-marburg.de/de/fb03/ekw/aktuelles/termine/der-arztberuf
 -mit-kulturwissenschaftlichem-know-how
END:VEVENT
BEGIN:VTIMEZONE
TZID:Europe/Berlin
X-LIC-LOCATION:Europe/Berlin
BEGIN:DAYLIGHT
DTSTART:20210328T030000
TZNAME:CEST
TZOFFSETFROM:+0100
TZOFFSETTO:+0200
END:DAYLIGHT
END:VTIMEZONE
END:VCALENDAR
