BEGIN:VCALENDAR
VERSION:2.0
PRODID:-//Plone.org//NONSGML plone.app.event//EN
X-WR-TIMEZONE:Europe/Berlin
BEGIN:VEVENT
SUMMARY:Der perfekte Klang der Dinge. Product Sound Design im emotionalen 
 Kapitalismus - Anna Symanczyk
DTSTART;TZID=Europe/Berlin:20220628T181500
DTEND;TZID=Europe/Berlin:20220628T194500
DTSTAMP:20260420T121228Z
UID:d467bbbb3e2c46f691133146701ccdf8@www.uni-marburg.de
ATTENDEE;CN="Anna Symanczyk (Hamburg)";ROLE=REQ-PARTICIPANT:Anna Symanczyk
  (Hamburg)
CREATED:20220422T085128Z
DESCRIPTION:https://www.uni-marburg.de/de/fb03/ekw/aktuelles/termine/der-p
 erfekte-klang-der-dinge-anna-symanczyk-nachholtermin\n
LAST-MODIFIED:20240524T060952Z
LOCATION:Big Blue Button
URL:https://www.uni-marburg.de/de/fb03/ekw/aktuelles/termine/der-perfekte-
 klang-der-dinge-anna-symanczyk-nachholtermin
END:VEVENT
BEGIN:VTIMEZONE
TZID:Europe/Berlin
X-LIC-LOCATION:Europe/Berlin
BEGIN:DAYLIGHT
DTSTART:20220327T030000
TZNAME:CEST
TZOFFSETFROM:+0100
TZOFFSETTO:+0200
END:DAYLIGHT
END:VTIMEZONE
END:VCALENDAR
