BEGIN:VCALENDAR
VERSION:2.0
PRODID:-//Plone.org//NONSGML plone.app.event//EN
X-WR-TIMEZONE:Europe/Berlin
BEGIN:VEVENT
SUMMARY:dgv-Berufsfeldkolloquium: Arbeiten für eine pluralistische Gesell
 schaft – Zwei Kulturwissenschaftlerinnen mischen mit!
DTSTART;TZID=Europe/Berlin:20220119T181500
DTEND;TZID=Europe/Berlin:20220119T194500
DTSTAMP:20260426T021446Z
UID:472d898b546647fba5c840a48d039f83@www.uni-marburg.de
ATTENDEE;CN="Dr. Franziska Engelhardt (Leiterin des Büros für Integratio
 n des Landkreises)";ROLE=REQ-PARTICIPANT:Dr. Franziska Engelhardt (Leiteri
 n des Büros für Integration des Landkreises)
ATTENDEE;CN="Pia Thattamannil (Koordinierungs- und Fachstelle im Projekt M
 isch mit! Miteinander";ROLE=REQ-PARTICIPANT:Pia Thattamannil (Koordinierun
 gs- und Fachstelle im Projekt Misch mit! Miteinander
ATTENDEE;CN="Vielfalt (er)leben beim BSJ Marburg und freiberuflich in der 
 Antidiskriminierungsarbeit)";ROLE=REQ-PARTICIPANT:Vielfalt (er)leben beim 
 BSJ Marburg und freiberuflich in der Antidiskriminierungsarbeit)
ATTENDEE;CN="Moderation: Antje van Elsbergen";ROLE=REQ-PARTICIPANT:Moderat
 ion: Antje van Elsbergen
CREATED:20211014T065812Z
DESCRIPTION:https://www.uni-marburg.de/de/fb03/ekw/aktuelles/termine/dgv-b
 erufsfeldkolloquium-arbeiten-fuer-eine-pluralistische-gesellschaft-zwei-ku
 lturwissenschaftlerinnen-mischen-mit\n
LAST-MODIFIED:20240524T060950Z
LOCATION:Zoom
URL:https://www.uni-marburg.de/de/fb03/ekw/aktuelles/termine/dgv-berufsfel
 dkolloquium-arbeiten-fuer-eine-pluralistische-gesellschaft-zwei-kulturwiss
 enschaftlerinnen-mischen-mit
END:VEVENT
BEGIN:VTIMEZONE
TZID:Europe/Berlin
X-LIC-LOCATION:Europe/Berlin
BEGIN:STANDARD
DTSTART:20211031T020000
TZNAME:CET
TZOFFSETFROM:+0200
TZOFFSETTO:+0100
END:STANDARD
END:VTIMEZONE
END:VCALENDAR
