BEGIN:VCALENDAR
VERSION:2.0
PRODID:-//Plone.org//NONSGML plone.app.event//EN
X-WR-TIMEZONE:Europe/Berlin
BEGIN:VEVENT
SUMMARY:dgv-Berufsfeldkolloquium: Berufsfeld Kulturvermittlung im ländlic
 hen Raum
DTSTART;TZID=Europe/Berlin:20211215T181500
DTEND;TZID=Europe/Berlin:20211215T194500
DTSTAMP:20260423T171312Z
UID:62678f9d57594355b00113d7e8955a4c@www.uni-marburg.de
ATTENDEE;CN="Ines Mangold-Walter M.A. (Regionalmanagerin Kultur, Landratsa
 mt Ostalbkreis Aalen)";ROLE=REQ-PARTICIPANT:Ines Mangold-Walter M.A. (Regi
 onalmanagerin Kultur, Landratsamt Ostalbkreis Aalen)
ATTENDEE;CN="Moderation: Gesa Ingendahl";ROLE=REQ-PARTICIPANT:Moderation: 
 Gesa Ingendahl
CREATED:20211014T065157Z
DESCRIPTION:https://www.uni-marburg.de/de/fb03/ekw/aktuelles/termine/dgv-b
 erufsfeldkolloquium-berufsfeld-kulturvermittlung-im-laendlichen-raum\n
LAST-MODIFIED:20240524T060950Z
LOCATION:Zoom
URL:https://www.uni-marburg.de/de/fb03/ekw/aktuelles/termine/dgv-berufsfel
 dkolloquium-berufsfeld-kulturvermittlung-im-laendlichen-raum
END:VEVENT
BEGIN:VTIMEZONE
TZID:Europe/Berlin
X-LIC-LOCATION:Europe/Berlin
BEGIN:STANDARD
DTSTART:20211031T020000
TZNAME:CET
TZOFFSETFROM:+0200
TZOFFSETTO:+0100
END:STANDARD
END:VTIMEZONE
END:VCALENDAR
