BEGIN:VCALENDAR
VERSION:2.0
PRODID:-//Plone.org//NONSGML plone.app.event//EN
X-WR-TIMEZONE:Europe/Berlin
BEGIN:VEVENT
SUMMARY:dgv-Berufsfeldkolloquium:  Die institutionalisierte Gleichstellung
  an den Universitäten: Zwischen Wissenschaft und Administration
DTSTART;TZID=Europe/Berlin:20220112T181500
DTEND;TZID=Europe/Berlin:20220112T194500
DTSTAMP:20260425T154256Z
UID:1adc3ab41fb9490e88fa87118f6a1a6e@www.uni-marburg.de
ATTENDEE;CN="Jana Pasch, M.A.";ROLE=REQ-PARTICIPANT:Jana Pasch, M.A.
ATTENDEE;CN="Moderatorin: Victoria Hegner";ROLE=REQ-PARTICIPANT:Moderatori
 n: Victoria Hegner
CREATED:20211014T065519Z
DESCRIPTION:https://www.uni-marburg.de/de/fb03/ekw/aktuelles/termine/dgv-b
 erufsfeldkolloquium-die-institutionalisierte-gleichstellung-an-den-univers
 itaeten-zwischen-wissenschaft-und-administration\n
LAST-MODIFIED:20240524T060950Z
LOCATION:Zoom
URL:https://www.uni-marburg.de/de/fb03/ekw/aktuelles/termine/dgv-berufsfel
 dkolloquium-die-institutionalisierte-gleichstellung-an-den-universitaeten-
 zwischen-wissenschaft-und-administration
END:VEVENT
BEGIN:VTIMEZONE
TZID:Europe/Berlin
X-LIC-LOCATION:Europe/Berlin
BEGIN:STANDARD
DTSTART:20211031T020000
TZNAME:CET
TZOFFSETFROM:+0200
TZOFFSETTO:+0100
END:STANDARD
END:VTIMEZONE
END:VCALENDAR
