BEGIN:VCALENDAR
VERSION:2.0
PRODID:-//Plone.org//NONSGML plone.app.event//EN
X-WR-TIMEZONE:Europe/Berlin
BEGIN:VEVENT
SUMMARY:dgv-Berufsfeldkolloquium: „Irgendwas mit Medien…“
DTSTART;TZID=Europe/Berlin:20211117T181500
DTEND;TZID=Europe/Berlin:20211117T194500
DTSTAMP:20260422T025231Z
UID:80ad0f7cd58549eda56b799e2d64f20d@www.uni-marburg.de
ATTENDEE;CN="Sammy Khamis (Journalist: Bayerischer Rundfunk, Investigative
  Recherche)";ROLE=REQ-PARTICIPANT:Sammy Khamis (Journalist: Bayerischer Ru
 ndfunk, Investigative Recherche)
ATTENDEE;CN="Mercedes Lauenstein (Journalistin: SZ, Zeit, brandeins, etc. 
 und freie Autorin)";ROLE=REQ-PARTICIPANT:Mercedes Lauenstein (Journalistin
 : SZ, Zeit, brandeins, etc. und freie Autorin)
ATTENDEE;CN="Christoph Wittmann (Redakteur bei Quer des BR Fernsehen und T
 rainer für TV-Journalismus)";ROLE=REQ-PARTICIPANT:Christoph Wittmann (Red
 akteur bei Quer des BR Fernsehen und Trainer für TV-Journalismus)
ATTENDEE;CN="Moderation: Daniel Habit";ROLE=REQ-PARTICIPANT:Moderation: Da
 niel Habit
CREATED:20211014T064226Z
DESCRIPTION:https://www.uni-marburg.de/de/fb03/ekw/aktuelles/termine/dgv-b
 erufsfeldkolloquium-irgendwas-mit-medien\n
LAST-MODIFIED:20240524T060950Z
LOCATION:Zoom
URL:https://www.uni-marburg.de/de/fb03/ekw/aktuelles/termine/dgv-berufsfel
 dkolloquium-irgendwas-mit-medien
END:VEVENT
BEGIN:VTIMEZONE
TZID:Europe/Berlin
X-LIC-LOCATION:Europe/Berlin
BEGIN:STANDARD
DTSTART:20211031T020000
TZNAME:CET
TZOFFSETFROM:+0200
TZOFFSETTO:+0100
END:STANDARD
END:VTIMEZONE
END:VCALENDAR
