BEGIN:VCALENDAR
VERSION:2.0
PRODID:-//Plone.org//NONSGML plone.app.event//EN
X-WR-TIMEZONE:Europe/Berlin
BEGIN:VEVENT
SUMMARY:dgv-Berufsfeldkolloquium: Kulturvermittlung und Projektmanagement
DTSTART;TZID=Europe/Berlin:20211124T181500
DTEND;TZID=Europe/Berlin:20211124T194500
DTSTAMP:20260424T140340Z
UID:b989e6dc1bba4caaa5833713612cd8a9@www.uni-marburg.de
ATTENDEE;CN="Jenny Illing (Projektmanagerin)";ROLE=REQ-PARTICIPANT:Jenny I
 lling (Projektmanagerin)
ATTENDEE;CN="Richard Schwarz (Medienkünstler und Kulturwissenschaftler)";
 ROLE=REQ-PARTICIPANT:Richard Schwarz (Medienkünstler und Kulturwissenscha
 ftler)
ATTENDEE;CN="Moderation: Jan Hinrichsen";ROLE=REQ-PARTICIPANT:Moderation: 
 Jan Hinrichsen
CREATED:20211014T064501Z
DESCRIPTION:https://www.uni-marburg.de/de/fb03/ekw/aktuelles/termine/dgv-b
 erufsfeldkolloquium-kulturvermittlung-und-projektmanagement\n
LAST-MODIFIED:20240524T060950Z
LOCATION:Zoom
URL:https://www.uni-marburg.de/de/fb03/ekw/aktuelles/termine/dgv-berufsfel
 dkolloquium-kulturvermittlung-und-projektmanagement
END:VEVENT
BEGIN:VTIMEZONE
TZID:Europe/Berlin
X-LIC-LOCATION:Europe/Berlin
BEGIN:STANDARD
DTSTART:20211031T020000
TZNAME:CET
TZOFFSETFROM:+0200
TZOFFSETTO:+0100
END:STANDARD
END:VTIMEZONE
END:VCALENDAR
