BEGIN:VCALENDAR
VERSION:2.0
PRODID:-//Plone.org//NONSGML plone.app.event//EN
X-WR-TIMEZONE:Europe/Berlin
BEGIN:VEVENT
SUMMARY:Die Zukunft als soziale Tatsache verstehen. Soziologische Perspekt
 iven auf Erwartungen\, Hoffnungen und Zukunftsvorstellungen
DTSTART;TZID=Europe/Berlin:20210624T180000
DTEND;TZID=Europe/Berlin:20210624T200000
DTSTAMP:20260426T042728Z
UID:4b40f70afb064e68b0da692f129779cd@www.uni-marburg.de
ATTENDEE;CN="Lisa Suckert (Max-Planck-Institut für Gesellschaftsforschung
 )";ROLE=REQ-PARTICIPANT:Lisa Suckert (Max-Planck-Institut für Gesellschaf
 tsforschung)
CREATED:20210525T064809Z
DESCRIPTION:https://www.uni-marburg.de/de/fb03/ekw/aktuelles/termine/die-z
 ukunft-als-soziale-tatsache-verstehen-soziologische-perspektiven-auf-erwar
 tungen-hoffnungen-und-zukunftsvorstellungen\n
LAST-MODIFIED:20240524T060949Z
LOCATION:Webex
URL:https://www.uni-marburg.de/de/fb03/ekw/aktuelles/termine/die-zukunft-a
 ls-soziale-tatsache-verstehen-soziologische-perspektiven-auf-erwartungen-h
 offnungen-und-zukunftsvorstellungen
END:VEVENT
BEGIN:VTIMEZONE
TZID:Europe/Berlin
X-LIC-LOCATION:Europe/Berlin
BEGIN:DAYLIGHT
DTSTART:20210328T030000
TZNAME:CEST
TZOFFSETFROM:+0100
TZOFFSETTO:+0200
END:DAYLIGHT
END:VTIMEZONE
END:VCALENDAR
