BEGIN:VCALENDAR
VERSION:2.0
PRODID:-//Plone.org//NONSGML plone.app.event//EN
X-WR-TIMEZONE:Europe/Berlin
BEGIN:VEVENT
SUMMARY:Die Zukunft des digitalen Kapitalismus
DTSTART;TZID=Europe/Berlin:20210610T180000
DTEND;TZID=Europe/Berlin:20210610T200000
DTSTAMP:20260421T231315Z
UID:b8df76b008f8480481264c7deff72e71@www.uni-marburg.de
ATTENDEE;CN="Philipp Staab (Humboldt-Universität zu Berlin)";ROLE=REQ-PAR
 TICIPANT:Philipp Staab (Humboldt-Universität zu Berlin)
CREATED:20210525T064402Z
DESCRIPTION:https://www.uni-marburg.de/de/fb03/ekw/aktuelles/termine/die-z
 ukunft-des-digitalen-kapitalismus\n
LAST-MODIFIED:20240524T060949Z
LOCATION:Webex
URL:https://www.uni-marburg.de/de/fb03/ekw/aktuelles/termine/die-zukunft-d
 es-digitalen-kapitalismus
END:VEVENT
BEGIN:VTIMEZONE
TZID:Europe/Berlin
X-LIC-LOCATION:Europe/Berlin
BEGIN:DAYLIGHT
DTSTART:20210328T030000
TZNAME:CEST
TZOFFSETFROM:+0100
TZOFFSETTO:+0200
END:DAYLIGHT
END:VTIMEZONE
END:VCALENDAR
