BEGIN:VCALENDAR
VERSION:2.0
PRODID:-//Plone.org//NONSGML plone.app.event//EN
X-WR-TIMEZONE:Europe/Berlin
BEGIN:VEVENT
SUMMARY:Digital Conference: Debating Urban Ethics as Research
DTSTART;VALUE=DATE:20210426
DTEND;VALUE=DATE:20210429
DTSTAMP:20260420T233630Z
UID:008a9800ec1049daa47be16b42befde8@www.uni-marburg.de
ATTENDEE;CN="Keynote Speakers: ";ROLE=REQ-PARTICIPANT:Keynote Speakers: 
ATTENDEE;CN="John Clarke ";ROLE=REQ-PARTICIPANT:John Clarke 
ATTENDEE;CN="Diane Davis";ROLE=REQ-PARTICIPANT:Diane Davis
ATTENDEE;CN="Miriam Ticktin";ROLE=REQ-PARTICIPANT:Miriam Ticktin
ATTENDEE;CN="Catherine Trundle";ROLE=REQ-PARTICIPANT:Catherine Trundle
CREATED:20210401T123932Z
DESCRIPTION:https://www.uni-marburg.de/de/fb03/ekw/aktuelles/termine/digit
 al-conference-debating-urban-ethics-as-research\n
LAST-MODIFIED:20240524T060948Z
LOCATION:Zoom
URL:https://www.uni-marburg.de/de/fb03/ekw/aktuelles/termine/digital-confe
 rence-debating-urban-ethics-as-research
END:VEVENT
END:VCALENDAR
