BEGIN:VCALENDAR
VERSION:2.0
PRODID:-//Plone.org//NONSGML plone.app.event//EN
X-WR-TIMEZONE:Europe/Berlin
BEGIN:VEVENT
SUMMARY:Digital Spring School: Interkulturelle Kommunikation neu denken 
 – Kritische Perspektiven auf Rassismus\, Postkolonialismus\, Mobilität 
 und Macht
DTSTART;VALUE=DATE:20210506
DTEND;VALUE=DATE:20210508
DTSTAMP:20260426T005450Z
UID:a5c53a0438a3473dab6305c376fd4a5b@www.uni-marburg.de
CREATED:20210401T121145Z
DESCRIPTION:https://www.uni-marburg.de/de/fb03/ekw/aktuelles/termine/digit
 al-spring-school-interkulturelle-kommunikation-neu-denken-kritische-perspe
 ktiven-auf-rassismus-postkolonialismus-mobilitaet-und-macht\n
LAST-MODIFIED:20240524T060948Z
LOCATION:Zoom
URL:https://www.uni-marburg.de/de/fb03/ekw/aktuelles/termine/digital-sprin
 g-school-interkulturelle-kommunikation-neu-denken-kritische-perspektiven-a
 uf-rassismus-postkolonialismus-mobilitaet-und-macht
END:VEVENT
END:VCALENDAR
