BEGIN:VCALENDAR
VERSION:2.0
PRODID:-//Plone.org//NONSGML plone.app.event//EN
X-WR-TIMEZONE:Europe/Berlin
BEGIN:VEVENT
SUMMARY:Online-Gespräch "Digitale Ausstellungen weiterdenken. Perspektive
 n und Impulse" Dr. Hendrikje Carius & Prof. Dr. Guido Fackler
DTSTART;TZID=Europe/Berlin:20220503T103000
DTEND;TZID=Europe/Berlin:20220503T120000
DTSTAMP:20260423T171145Z
UID:4bfd3608e763468e900a86035f71040b@www.uni-marburg.de
CREATED:20220429T104849Z
DESCRIPTION:https://www.uni-marburg.de/de/fb03/ekw/aktuelles/termine/digit
 ale-ausstellungen-weiterdenken-perspektiven-und-impulse\n
LAST-MODIFIED:20240524T060951Z
LOCATION:Zoom
URL:https://www.uni-marburg.de/de/fb03/ekw/aktuelles/termine/digitale-auss
 tellungen-weiterdenken-perspektiven-und-impulse
END:VEVENT
BEGIN:VTIMEZONE
TZID:Europe/Berlin
X-LIC-LOCATION:Europe/Berlin
BEGIN:DAYLIGHT
DTSTART:20220327T030000
TZNAME:CEST
TZOFFSETFROM:+0100
TZOFFSETTO:+0200
END:DAYLIGHT
END:VTIMEZONE
END:VCALENDAR
