BEGIN:VCALENDAR
VERSION:2.0
PRODID:-//Plone.org//NONSGML plone.app.event//EN
X-WR-TIMEZONE:Europe/Berlin
BEGIN:VEVENT
SUMMARY:Digitale Technik im Büroalltag 1980-2010
DTSTART;TZID=Europe/Berlin:20211202T114500
DTEND;TZID=Europe/Berlin:20211202T131500
DTSTAMP:20260420T215113Z
UID:4cf3d066cbde4f93863ccf6ef4def8ee@www.uni-marburg.de
ATTENDEE;CN="Christiane Berth (Graz)";ROLE=REQ-PARTICIPANT:Christiane Bert
 h (Graz)
CREATED:20211115T085134Z
DESCRIPTION:https://www.uni-marburg.de/de/fb03/ekw/aktuelles/termine/digit
 ale-technik-im-bueroalltag-1980-2010\n
LAST-MODIFIED:20240524T060951Z
LOCATION:Hybrid
URL:https://www.uni-marburg.de/de/fb03/ekw/aktuelles/termine/digitale-tech
 nik-im-bueroalltag-1980-2010
END:VEVENT
BEGIN:VTIMEZONE
TZID:Europe/Berlin
X-LIC-LOCATION:Europe/Berlin
BEGIN:STANDARD
DTSTART:20211031T020000
TZNAME:CET
TZOFFSETFROM:+0200
TZOFFSETTO:+0100
END:STANDARD
END:VTIMEZONE
END:VCALENDAR
