BEGIN:VCALENDAR
VERSION:2.0
PRODID:-//Plone.org//NONSGML plone.app.event//EN
X-WR-TIMEZONE:Europe/Berlin
BEGIN:VEVENT
SUMMARY:Doktorierendenkolloquium des Marburger Instituts EE/KW
DTSTART;TZID=Europe/Berlin:20231017T181500
DTEND;TZID=Europe/Berlin:20231017T194500
DTSTAMP:20260425T202333Z
UID:b539c8a69099479c877ef7d8b4ffa90c@www.uni-marburg.de
CREATED:20230613T154034Z
DESCRIPTION:https://www.uni-marburg.de/de/fb03/ekw/aktuelles/termine/dokto
 rierendenkolloquium-des-marburger-instituts-ee-kw_aktualisiert/copy3_of_do
 ktorierendenkolloquium-des-marburger-instituts-ee-kw\n
LAST-MODIFIED:20240524T060952Z
LOCATION:Online via BigBlueButton
URL:https://www.uni-marburg.de/de/fb03/ekw/aktuelles/termine/doktorierende
 nkolloquium-des-marburger-instituts-ee-kw_aktualisiert/copy3_of_doktoriere
 ndenkolloquium-des-marburger-instituts-ee-kw
END:VEVENT
BEGIN:VTIMEZONE
TZID:Europe/Berlin
X-LIC-LOCATION:Europe/Berlin
BEGIN:DAYLIGHT
DTSTART:20230326T030000
TZNAME:CEST
TZOFFSETFROM:+0100
TZOFFSETTO:+0200
END:DAYLIGHT
END:VTIMEZONE
END:VCALENDAR
