BEGIN:VCALENDAR
VERSION:2.0
PRODID:-//Plone.org//NONSGML plone.app.event//EN
X-WR-TIMEZONE:Europe/Berlin
BEGIN:VEVENT
SUMMARY:Doktorierendenkolloquium des Marburger Instituts EE/KW
DTSTART;TZID=Europe/Berlin:20231121T181500
DTEND;TZID=Europe/Berlin:20231121T194500
DTSTAMP:20260425T141634Z
UID:1ad439b9197c4010b4502c88c9447e79@www.uni-marburg.de
CREATED:20230613T154034Z
DESCRIPTION:https://www.uni-marburg.de/de/fb03/ekw/aktuelles/termine/dokto
 rierendenkolloquium-des-marburger-instituts-ee-kw_aktualisiert/copy4_of_do
 ktorierendenkolloquium-des-marburger-instituts-ee-kw\n
LAST-MODIFIED:20240524T060952Z
LOCATION:Online via BigBlueButton
URL:https://www.uni-marburg.de/de/fb03/ekw/aktuelles/termine/doktorierende
 nkolloquium-des-marburger-instituts-ee-kw_aktualisiert/copy4_of_doktoriere
 ndenkolloquium-des-marburger-instituts-ee-kw
END:VEVENT
BEGIN:VTIMEZONE
TZID:Europe/Berlin
X-LIC-LOCATION:Europe/Berlin
BEGIN:STANDARD
DTSTART:20231029T020000
TZNAME:CET
TZOFFSETFROM:+0200
TZOFFSETTO:+0100
END:STANDARD
END:VTIMEZONE
END:VCALENDAR
