BEGIN:VCALENDAR
VERSION:2.0
PRODID:-//Plone.org//NONSGML plone.app.event//EN
X-WR-TIMEZONE:Europe/Berlin
BEGIN:VEVENT
SUMMARY:Eheberatung zwischen Selbstverständnis und Praxis. Institutionali
 sierte nichtkonfessionelle und katholische Eheberatungsstellen in Westdeut
 schland 1945 - 1965
DTSTART;TZID=Europe/Berlin:20220428T180000
DTEND;TZID=Europe/Berlin:20220428T200000
DTSTAMP:20260425T213842Z
UID:b0eb5df46ca64fde9f435148da2280dd@www.uni-marburg.de
ATTENDEE;CN="Vera-Maria Giehler, LMU München";ROLE=REQ-PARTICIPANT:Vera-M
 aria Giehler, LMU München
CREATED:20220425T060921Z
DESCRIPTION:https://www.uni-marburg.de/de/fb03/ekw/aktuelles/termine/ehebe
 ratung-zwischen-selbstverstaendnis-und-praxis-institutionalisierte-nichtko
 nfessionelle-und-katholische-eheberatungsstellen-in-westdeutschland-1945-1
 965\n
LAST-MODIFIED:20240524T060951Z
LOCATION:Zoom
URL:https://www.uni-marburg.de/de/fb03/ekw/aktuelles/termine/eheberatung-z
 wischen-selbstverstaendnis-und-praxis-institutionalisierte-nichtkonfession
 elle-und-katholische-eheberatungsstellen-in-westdeutschland-1945-1965
END:VEVENT
BEGIN:VTIMEZONE
TZID:Europe/Berlin
X-LIC-LOCATION:Europe/Berlin
BEGIN:DAYLIGHT
DTSTART:20220327T030000
TZNAME:CEST
TZOFFSETFROM:+0100
TZOFFSETTO:+0200
END:DAYLIGHT
END:VTIMEZONE
END:VCALENDAR
