BEGIN:VCALENDAR
VERSION:2.0
PRODID:-//Plone.org//NONSGML plone.app.event//EN
X-WR-TIMEZONE:Europe/Berlin
BEGIN:VEVENT
SUMMARY:Ethnographien des Selbst in der Gegenwart
DTSTART;VALUE=DATE:20210304
DTEND;VALUE=DATE:20210306
DTSTAMP:20260422T022627Z
UID:b8d29a306f7e45adbbdbf6ad9bcabf93@www.uni-marburg.de
CREATED:20210301T104106Z
DESCRIPTION:https://www.uni-marburg.de/de/fb03/ekw/aktuelles/termine/ethno
 graphien-des-selbst-in-der-gegenwart\n
LAST-MODIFIED:20240524T060948Z
LOCATION:Zoom
URL:https://www.uni-marburg.de/de/fb03/ekw/aktuelles/termine/ethnographien
 -des-selbst-in-der-gegenwart
END:VEVENT
END:VCALENDAR
