BEGIN:VCALENDAR
VERSION:2.0
PRODID:-//Plone.org//NONSGML plone.app.event//EN
X-WR-TIMEZONE:Europe/Berlin
BEGIN:VEVENT
SUMMARY:Ethnographische Zugänge und Herausforderungen im Feld der Haftent
 lassung. Oder: Wie ich als Empirische Kulturwissenschaftlerin das Leben na
 ch dem Gefängnis verstehen lernte
DTSTART;TZID=Europe/Berlin:20211208T180000
DTEND;TZID=Europe/Berlin:20211208T200000
DTSTAMP:20260425T230209Z
UID:4bd8ef7b4faa44b1a6046651b1e8cf67@www.uni-marburg.de
ATTENDEE;CN="Barbara Sieferle (Albert-Ludwigs-Universität Freiburg)";ROLE
 =REQ-PARTICIPANT:Barbara Sieferle (Albert-Ludwigs-Universität Freiburg)
CREATED:20211011T055747Z
DESCRIPTION:https://www.uni-marburg.de/de/fb03/ekw/aktuelles/termine/ethno
 graphische-zugaenge-und-herausforderungen-im-feld-der-haftentlassung-oder-
 wie-ich-als-empirische-kulturwissenschaftlerin-das-leben-nach-dem-gefaengn
 is-verstehen-lernte\n
LAST-MODIFIED:20240524T060950Z
LOCATION:Zoom
URL:https://www.uni-marburg.de/de/fb03/ekw/aktuelles/termine/ethnographisc
 he-zugaenge-und-herausforderungen-im-feld-der-haftentlassung-oder-wie-ich-
 als-empirische-kulturwissenschaftlerin-das-leben-nach-dem-gefaengnis-verst
 ehen-lernte
END:VEVENT
BEGIN:VTIMEZONE
TZID:Europe/Berlin
X-LIC-LOCATION:Europe/Berlin
BEGIN:STANDARD
DTSTART:20211031T020000
TZNAME:CET
TZOFFSETFROM:+0200
TZOFFSETTO:+0100
END:STANDARD
END:VTIMEZONE
END:VCALENDAR
