BEGIN:VCALENDAR
VERSION:2.0
PRODID:-//Plone.org//NONSGML plone.app.event//EN
X-WR-TIMEZONE:Europe/Berlin
BEGIN:VEVENT
SUMMARY:Fächerübergreifendes Promovierendentreffen 2021
DTSTART;VALUE=DATE:20211127
DTEND;VALUE=DATE:20211128
DTSTAMP:20260423T171057Z
UID:32f719fc5e514b31b126e5688225f0b6@www.uni-marburg.de
CREATED:20211018T062618Z
DESCRIPTION:https://www.uni-marburg.de/de/fb03/ekw/aktuelles/termine/faech
 eruebergreifendes-promovierendentreffen-2021\n
LAST-MODIFIED:20240524T060950Z
LOCATION:Schloss Rauischholzhausen
URL:https://www.uni-marburg.de/de/fb03/ekw/aktuelles/termine/faecherueberg
 reifendes-promovierendentreffen-2021
END:VEVENT
END:VCALENDAR
