BEGIN:VCALENDAR
VERSION:2.0
PRODID:-//Plone.org//NONSGML plone.app.event//EN
X-WR-TIMEZONE:Europe/Berlin
BEGIN:VEVENT
SUMMARY:Klimatische Zukünfte - Forschungskolloquium „Zukünfte. Felder\
 , Perspektiven\, Aushandlungen“
DTSTART;TZID=Europe/Berlin:20211123T160000
DTEND;TZID=Europe/Berlin:20211123T180000
DTSTAMP:20260426T002218Z
UID:eff192e2eda543fc8b22d2dbf99dd814@www.uni-marburg.de
ATTENDEE;CN="Britta Acksel (KWI Essen), Alina Becker (LMU München), Vales
 ka Flor (Uni";ROLE=REQ-PARTICIPANT:Britta Acksel (KWI Essen), Alina Becker
  (LMU München), Valeska Flor (Uni
ATTENDEE;CN=Bonn);ROLE=REQ-PARTICIPANT:Bonn)
CREATED:20211026T065850Z
DESCRIPTION:https://www.uni-marburg.de/de/fb03/ekw/aktuelles/termine/klima
 tische-zukuenfte-forschungskolloquium-zukuenfte-felder-perspektiven-aushan
 dlungen\n
LAST-MODIFIED:20240524T060950Z
LOCATION:Zoom
URL:https://www.uni-marburg.de/de/fb03/ekw/aktuelles/termine/klimatische-z
 ukuenfte-forschungskolloquium-zukuenfte-felder-perspektiven-aushandlungen
END:VEVENT
BEGIN:VTIMEZONE
TZID:Europe/Berlin
X-LIC-LOCATION:Europe/Berlin
BEGIN:STANDARD
DTSTART:20211031T020000
TZNAME:CET
TZOFFSETFROM:+0200
TZOFFSETTO:+0100
END:STANDARD
END:VTIMEZONE
END:VCALENDAR
