BEGIN:VCALENDAR
VERSION:2.0
PRODID:-//Plone.org//NONSGML plone.app.event//EN
X-WR-TIMEZONE:Europe/Berlin
BEGIN:VEVENT
SUMMARY:Körper und ‚Rasse‘. Konjunkturen von Rassismus in Europa - Rf
 M-Jahrestagung 2021
DTSTART;VALUE=DATE:20211124
DTEND;VALUE=DATE:20211127
DTSTAMP:20260425T233818Z
UID:cce789abb346476491deceabe4d2b202@www.uni-marburg.de
CREATED:20211018T055007Z
DESCRIPTION:https://www.uni-marburg.de/de/fb03/ekw/aktuelles/termine/koerp
 er-und-rasse-konjunkturen-von-rassismus-in-europa-rfm-jahrestagung-2021\n
LAST-MODIFIED:20240524T060950Z
LOCATION:Deutsches Hygiene-Museum Dresden
URL:https://www.uni-marburg.de/de/fb03/ekw/aktuelles/termine/koerper-und-r
 asse-konjunkturen-von-rassismus-in-europa-rfm-jahrestagung-2021
END:VEVENT
END:VCALENDAR
