BEGIN:VCALENDAR
VERSION:2.0
PRODID:-//Plone.org//NONSGML plone.app.event//EN
X-WR-TIMEZONE:Europe/Berlin
BEGIN:VEVENT
SUMMARY:Matter of Shame. Forschen mit und über Menschen in der Suchtthera
 pie
DTSTART;TZID=Europe/Berlin:20211215T180000
DTEND;TZID=Europe/Berlin:20211215T200000
DTSTAMP:20260425T094242Z
UID:222d572ab233406a9637dda54c3d3e61@www.uni-marburg.de
ATTENDEE;CN="Paula Helm (Eberhard Karls Universität Tübingen)";ROLE=REQ-
 PARTICIPANT:Paula Helm (Eberhard Karls Universität Tübingen)
CREATED:20211011T060029Z
DESCRIPTION:https://www.uni-marburg.de/de/fb03/ekw/aktuelles/termine/matte
 r-of-shame-forschen-mit-und-ueber-menschen-in-der-suchttherapie\n
LAST-MODIFIED:20240524T060950Z
LOCATION:Zoom
URL:https://www.uni-marburg.de/de/fb03/ekw/aktuelles/termine/matter-of-sha
 me-forschen-mit-und-ueber-menschen-in-der-suchttherapie
END:VEVENT
BEGIN:VTIMEZONE
TZID:Europe/Berlin
X-LIC-LOCATION:Europe/Berlin
BEGIN:STANDARD
DTSTART:20211031T020000
TZNAME:CET
TZOFFSETFROM:+0200
TZOFFSETTO:+0100
END:STANDARD
END:VTIMEZONE
END:VCALENDAR
