BEGIN:VCALENDAR
VERSION:2.0
PRODID:-//Plone.org//NONSGML plone.app.event//EN
X-WR-TIMEZONE:Europe/Berlin
BEGIN:VEVENT
SUMMARY:Mit der Blauen Holzbiene denken. Über Verflechtungen von Menschen
 - und Insektenwelten - Michaela Fenske (Würzburg)
DTSTART;TZID=Europe/Berlin:20220531T160000
DTEND;TZID=Europe/Berlin:20220531T180000
DTSTAMP:20260423T171305Z
UID:386ee99ee9d94140a5c48a0225467347@www.uni-marburg.de
CREATED:20220429T113218Z
DESCRIPTION:https://www.uni-marburg.de/de/fb03/ekw/aktuelles/termine/mit-d
 er-blauen-holzbiene-fenske\n
LAST-MODIFIED:20240524T060951Z
LOCATION:Oettingenstr. 67\, München oder Zoom
URL:https://www.uni-marburg.de/de/fb03/ekw/aktuelles/termine/mit-der-blaue
 n-holzbiene-fenske
END:VEVENT
BEGIN:VTIMEZONE
TZID:Europe/Berlin
X-LIC-LOCATION:Europe/Berlin
BEGIN:DAYLIGHT
DTSTART:20220327T030000
TZNAME:CEST
TZOFFSETFROM:+0100
TZOFFSETTO:+0200
END:DAYLIGHT
END:VTIMEZONE
END:VCALENDAR
