BEGIN:VCALENDAR
VERSION:2.0
PRODID:-//Plone.org//NONSGML plone.app.event//EN
X-WR-TIMEZONE:Europe/Berlin
BEGIN:VEVENT
SUMMARY:Orientierungswoche 2024/25
DTSTART;VALUE=DATE:20241007
DTEND;VALUE=DATE:20241012
DTSTAMP:20260421T160804Z
UID:dd06bd3726274dcebd0598ab7d38f064@www.uni-marburg.de
CREATED:20241007T073317Z
DESCRIPTION:https://www.uni-marburg.de/de/fb03/ekw/aktuelles/termine/orien
 tierungswoche-2024-25\n
LAST-MODIFIED:20241007T073359Z
LOCATION:Deutschhausstraße 3\, 35037 Marburg und andere Orte
URL:https://www.uni-marburg.de/de/fb03/ekw/aktuelles/termine/orientierungs
 woche-2024-25
END:VEVENT
END:VCALENDAR
