BEGIN:VCALENDAR
VERSION:2.0
PRODID:-//Plone.org//NONSGML plone.app.event//EN
X-WR-TIMEZONE:Europe/Berlin
BEGIN:VEVENT
SUMMARY:Plötzlich Prepper-Experte. Öffentlichkeitsarbeit als ambivalente
 s Vergnügen
DTSTART;TZID=Europe/Berlin:20210512T180000
DTEND;TZID=Europe/Berlin:20210512T200000
DTSTAMP:20260422T060514Z
UID:0a32b8db923f49c7a5a8394c2dc142d5@www.uni-marburg.de
ATTENDEE;CN="Dr. Julian Genner (Freiburg/Basel)";ROLE=REQ-PARTICIPANT:Dr. 
 Julian Genner (Freiburg/Basel)
CREATED:20210406T141918Z
DESCRIPTION:https://www.uni-marburg.de/de/fb03/ekw/aktuelles/termine/ploet
 zlich-prepper-experte-oeffentlichkeitsarbeit-als-ambivalentes-vergnuegen\n
LAST-MODIFIED:20240524T060949Z
LOCATION:Online
URL:https://www.uni-marburg.de/de/fb03/ekw/aktuelles/termine/ploetzlich-pr
 epper-experte-oeffentlichkeitsarbeit-als-ambivalentes-vergnuegen
END:VEVENT
BEGIN:VTIMEZONE
TZID:Europe/Berlin
X-LIC-LOCATION:Europe/Berlin
BEGIN:DAYLIGHT
DTSTART:20210328T030000
TZNAME:CEST
TZOFFSETFROM:+0100
TZOFFSETTO:+0200
END:DAYLIGHT
END:VTIMEZONE
END:VCALENDAR
