BEGIN:VCALENDAR
VERSION:2.0
PRODID:-//Plone.org//NONSGML plone.app.event//EN
X-WR-TIMEZONE:Europe/Berlin
BEGIN:VEVENT
SUMMARY:Re-Mapping Memory: Possibilities of Postcolonial & Anti-Racist (Co
 unter)Archiving
DTSTART;TZID=Europe/Berlin:20210318T140000
DTEND;TZID=Europe/Berlin:20210318T210000
DTSTAMP:20260423T171146Z
UID:ba7a83d977464cdcbde5db94fb5a8ca9@www.uni-marburg.de
CREATED:20210304T141735Z
DESCRIPTION:https://www.uni-marburg.de/de/fb03/ekw/aktuelles/termine/re-ma
 pping-memory-possibilities-of-postcolonial-anti-racist-counter-archiving\n
LAST-MODIFIED:20240524T060948Z
LOCATION:Zoom
URL:https://www.uni-marburg.de/de/fb03/ekw/aktuelles/termine/re-mapping-me
 mory-possibilities-of-postcolonial-anti-racist-counter-archiving
END:VEVENT
BEGIN:VTIMEZONE
TZID:Europe/Berlin
X-LIC-LOCATION:Europe/Berlin
BEGIN:STANDARD
DTSTART:20201025T020000
TZNAME:CET
TZOFFSETFROM:+0200
TZOFFSETTO:+0100
END:STANDARD
END:VTIMEZONE
END:VCALENDAR
