BEGIN:VCALENDAR
VERSION:2.0
PRODID:-//Plone.org//NONSGML plone.app.event//EN
X-WR-TIMEZONE:Europe/Berlin
BEGIN:VEVENT
SUMMARY:RESEARCH ON RESEARCH. Methodological Approaches and Empirical Chal
 lenges in the Digital Age. Ethnography Meets Artificial Intelligence
DTSTART;VALUE=DATE:20210422
DTEND;VALUE=DATE:20210424
DTSTAMP:20260422T051635Z
UID:caf9b3f9795f4ece9d35f277c35df7d6@www.uni-marburg.de
CREATED:20210415T140610Z
DESCRIPTION:https://www.uni-marburg.de/de/fb03/ekw/aktuelles/termine/resea
 rch-on-research-methodological-approaches-and-empirical-challenges-in-the-
 digital-age-ethnography-meets-artificial-intelligence\n
LAST-MODIFIED:20240524T060949Z
LOCATION:Zoom
URL:https://www.uni-marburg.de/de/fb03/ekw/aktuelles/termine/research-on-r
 esearch-methodological-approaches-and-empirical-challenges-in-the-digital-
 age-ethnography-meets-artificial-intelligence
END:VEVENT
END:VCALENDAR
