BEGIN:VCALENDAR
VERSION:2.0
PRODID:-//Plone.org//NONSGML plone.app.event//EN
X-WR-TIMEZONE:Europe/Berlin
BEGIN:VEVENT
SUMMARY:Seeing the 'Other'? Theories & Histories of (Post-)Colonial Visual
  Cultures
DTSTART;VALUE=DATE:20210408
DTEND;VALUE=DATE:20210410
DTSTAMP:20260424T133549Z
UID:136fade5107349f7bac25487cf082ee0@www.uni-marburg.de
ATTENDEE;CN="Prof. Dr. Iris Pigeot (Deputy Chair U Bremen Research Allianc
 e,Scientific Director Leibniz Institute for Prevention Research and Epidem
 iology – BIPS)";ROLE=REQ-PARTICIPANT:Prof. Dr. Iris Pigeot (Deputy Chair
  U Bremen Research Alliance,Scientific Director Leibniz Institute for Prev
 ention Research and Epidemiology – BIPS)
ATTENDEE;CN="Prof. Dr. Sunhild Kleingärtner (Director, German Maritime Mu
 seum Bremerhaven - GMM) and PD Dr. Gisela Parak (GMM)";ROLE=REQ-PARTICIPAN
 T:Prof. Dr. Sunhild Kleingärtner (Director, German Maritime Museum Bremer
 haven - GMM) and PD Dr. Gisela Parak (GMM)
ATTENDEE;CN="Jun.-Prof. Dr. Elena Zanichelli (University of Bremen)";ROLE=
 REQ-PARTICIPANT:Jun.-Prof. Dr. Elena Zanichelli (University of Bremen)
ATTENDEE;CN="Prof. Dr. Anna Greve (State Museum for Art and Cultural Histo
 ry Bremen-Focke Museum/University of Bremen)";ROLE=REQ-PARTICIPANT:Prof. D
 r. Anna Greve (State Museum for Art and Cultural History Bremen-Focke Muse
 um/University of Bremen)
ATTENDEE;CN="Prof. Dr. Elizabeth Edwards (Professor Emerita, De Montfort U
 niversity / Andrew W. Mellon Visiting Professor, V&A Research Institute, L
 ondon)";ROLE=REQ-PARTICIPANT:Prof. Dr. Elizabeth Edwards (Professor Emerit
 a, De Montfort University / Andrew W. Mellon Visiting Professor, V&A Resea
 rch Institute, London)
ATTENDEE;CN="PD Dr. Cordula Weißköppel (University of Bremen)";ROLE=REQ-
 PARTICIPANT:PD Dr. Cordula Weißköppel (University of Bremen)
ATTENDEE;CN="Vitjitua Ndjiharine, artist & cultural scientist (Windhoek, N
 ew York) in dialogue with Ulrike Peters, historian (University of Hamburg)
 ";ROLE=REQ-PARTICIPANT:Vitjitua Ndjiharine, artist & cultural scientist (W
 indhoek, New York) in dialogue with Ulrike Peters, historian (University o
 f Hamburg)
ATTENDEE;CN="Dr. Frauke Stegmann (Visual Arts, University of Namibia)";ROL
 E=REQ-PARTICIPANT:Dr. Frauke Stegmann (Visual Arts, University of Namibia)
ATTENDEE;CN="Dr. Martin Gruber & PD Dr. Cordula Weißköppel (University o
 f Bremen)";ROLE=REQ-PARTICIPANT:Dr. Martin Gruber & PD Dr. Cordula Weißk
 öppel (University of Bremen)
ATTENDEE;CN="Dr. Helga Rathjen (University of Bremen)";ROLE=REQ-PARTICIPAN
 T:Dr. Helga Rathjen (University of Bremen)
ATTENDEE;CN="Jan Waßmann, M.A. (University of Oldenburg)";ROLE=REQ-PARTIC
 IPANT:Jan Waßmann, M.A. (University of Oldenburg)
ATTENDEE;CN="Dr. Renate Noda (Übersee-Museum Bremen)";ROLE=REQ-PARTICIPAN
 T:Dr. Renate Noda (Übersee-Museum Bremen)
ATTENDEE;CN="Prof. Dr. Thoralf Klein (Loughborough University)";ROLE=REQ-P
 ARTICIPANT:Prof. Dr. Thoralf Klein (Loughborough University)
ATTENDEE;CN="Prof. Dr. Kerstin Knopf (University of Bremen)";ROLE=REQ-PART
 ICIPANT:Prof. Dr. Kerstin Knopf (University of Bremen)
ATTENDEE;CN="Lisa Hilli (Artist & PhD researcher, Australian National Univ
 ersity)";ROLE=REQ-PARTICIPANT:Lisa Hilli (Artist & PhD researcher, Austral
 ian National University)
ATTENDEE;CN="Tony Brunt (Independent Historian, New Zealand / Samoa)";ROLE
 =REQ-PARTICIPANT:Tony Brunt (Independent Historian, New Zealand / Samoa)
ATTENDEE;CN="Dr. Nicole Perry (University of Auckland)";ROLE=REQ-PARTICIPA
 NT:Dr. Nicole Perry (University of Auckland)
ATTENDEE;CN="Dr. Elke Bauer (Herder-Institut für historische Ostmitteleur
 opaforschung)";ROLE=REQ-PARTICIPANT:Dr. Elke Bauer (Herder-Institut für h
 istorische Ostmitteleuropaforschung)
ATTENDEE;CN="Dr. Agnes Matthias (Staatliche Kunstsammlungen Dresden)";ROLE
 =REQ-PARTICIPANT:Dr. Agnes Matthias (Staatliche Kunstsammlungen Dresden)
ATTENDEE;CN="Carolin Bräuer / Lucia Halder (Rautenstrauch-Joest-Museum, C
 ologne)";ROLE=REQ-PARTICIPANT:Carolin Bräuer / Lucia Halder (Rautenstrauc
 h-Joest-Museum, Cologne)
ATTENDEE;CN="Dr. Beatrice Voirol (Museum der Kulturen Basel)";ROLE=REQ-PAR
 TICIPANT:Dr. Beatrice Voirol (Museum der Kulturen Basel)
CREATED:20210301T102914Z
DESCRIPTION:https://www.uni-marburg.de/de/fb03/ekw/aktuelles/termine/seein
 g-the-other-theories-histories-of-post-colonial-visual-cultures\n
LAST-MODIFIED:20240524T060948Z
LOCATION:Zoom
URL:https://www.uni-marburg.de/de/fb03/ekw/aktuelles/termine/seeing-the-ot
 her-theories-histories-of-post-colonial-visual-cultures
END:VEVENT
END:VCALENDAR
