BEGIN:VCALENDAR
VERSION:2.0
PRODID:-//Plone.org//NONSGML plone.app.event//EN
X-WR-TIMEZONE:Europe/Berlin
BEGIN:VEVENT
SUMMARY:Sounds Matter - Forschen über und mit Sound
DTSTART;TZID=Europe/Berlin:20240829T190000
DTSTAMP:20260423T171308Z
UID:b168af1812f549959b7fa40c1b3d3333@www.uni-marburg.de
CREATED:20240829T111221Z
DESCRIPTION:https://www.uni-marburg.de/de/fb03/ekw/aktuelles/termine/sound
 s-matter-forschen-ueber-und-mit-sound\nÖffentliche Veranstaltung der Summ
 er School "Temporal Sounds"
LAST-MODIFIED:20240829T111457Z
LOCATION:Vorlesungssaal +1/109\, Deutschhausstraße 3\, 35037 Marburg
URL:https://www.uni-marburg.de/de/fb03/ekw/aktuelles/termine/sounds-matter
 -forschen-ueber-und-mit-sound
END:VEVENT
BEGIN:VTIMEZONE
TZID:Europe/Berlin
X-LIC-LOCATION:Europe/Berlin
BEGIN:DAYLIGHT
DTSTART:20240331T030000
TZNAME:CEST
TZOFFSETFROM:+0100
TZOFFSETTO:+0200
END:DAYLIGHT
END:VTIMEZONE
END:VCALENDAR
