BEGIN:VCALENDAR
VERSION:2.0
PRODID:-//Plone.org//NONSGML plone.app.event//EN
X-WR-TIMEZONE:Europe/Berlin
BEGIN:VEVENT
SUMMARY:Stadtforschung als Gesellschaftsforschung
DTSTART;TZID=Europe/Berlin:20211214T150000
DTEND;TZID=Europe/Berlin:20211214T163000
DTSTAMP:20260421T011435Z
UID:a200628935fa455294bb20a16a3c1c33@www.uni-marburg.de
ATTENDEE;CN="Johanna Rolshoven ";ROLE=REQ-PARTICIPANT:Johanna Rolshoven 
CREATED:20211207T085908Z
DESCRIPTION:https://www.uni-marburg.de/de/fb03/ekw/aktuelles/termine/stadt
 forschung-als-gesellschaftsforschung\n
LAST-MODIFIED:20240524T060951Z
LOCATION:Zoom
URL:https://www.uni-marburg.de/de/fb03/ekw/aktuelles/termine/stadtforschun
 g-als-gesellschaftsforschung
END:VEVENT
BEGIN:VTIMEZONE
TZID:Europe/Berlin
X-LIC-LOCATION:Europe/Berlin
BEGIN:STANDARD
DTSTART:20211031T020000
TZNAME:CET
TZOFFSETFROM:+0200
TZOFFSETTO:+0100
END:STANDARD
END:VTIMEZONE
END:VCALENDAR
