BEGIN:VCALENDAR
VERSION:2.0
PRODID:-//Plone.org//NONSGML plone.app.event//EN
X-WR-TIMEZONE:Europe/Berlin
BEGIN:VEVENT
SUMMARY:Stammtisch - Studiengänge der Empirischen Kulturwissenschaft\, Re
 ligionswissenschaft und Sozial- und Kulturanthropologie
DTSTART;TZID=Europe/Berlin:20240613T170000
DTSTAMP:20260425T100716Z
UID:71e342b7f69d4308bcd8e1f0b70a6cd3@www.uni-marburg.de
RRULE:FREQ=MONTHLY;COUNT=1;BYDAY=+2TH
RDATE;TZID=Europe/Berlin:20240711T170000
CREATED:20240606T104354Z
DESCRIPTION:https://www.uni-marburg.de/de/fb03/ekw/aktuelles/termine/stamm
 tisch-studiengaenge-der-empirischen-kulturwissenschaft-religionswissenscha
 ft-und-sozial-und-kulturanthropologie\nSchnacken\, Kennenlernen und Themen
  vertiefen außerhalb des Seminarraums.
LAST-MODIFIED:20240620T125817Z
LOCATION:Sudhaus\,  Steinweg 44\, 35037 Marburg
URL:https://www.uni-marburg.de/de/fb03/ekw/aktuelles/termine/stammtisch-st
 udiengaenge-der-empirischen-kulturwissenschaft-religionswissenschaft-und-s
 ozial-und-kulturanthropologie
END:VEVENT
BEGIN:VTIMEZONE
TZID:Europe/Berlin
X-LIC-LOCATION:Europe/Berlin
BEGIN:DAYLIGHT
DTSTART:20240331T030000
TZNAME:CEST
TZOFFSETFROM:+0100
TZOFFSETTO:+0200
END:DAYLIGHT
END:VTIMEZONE
END:VCALENDAR
