BEGIN:VCALENDAR
VERSION:2.0
PRODID:-//Plone.org//NONSGML plone.app.event//EN
X-WR-TIMEZONE:Europe/Berlin
BEGIN:VEVENT
SUMMARY:Studienberatung
DTSTART;TZID=Europe/Berlin:20260428T140000
DTEND;TZID=Europe/Berlin:20260428T150000
DTSTAMP:20260425T193954Z
UID:266f5c43054348e3b778719b1b9bc952@www.uni-marburg.de
RRULE:FREQ=WEEKLY;UNTIL=20260714T000000;BYDAY=TU
CATEGORIES:()
CREATED:20260422T115029Z
DESCRIPTION:https://www.uni-marburg.de/de/fb03/ekw/aktuelles/termine/studi
 enberatung-fuer-studierende-der-kritischen-kultur-und-religionsforschung-u
 nd-empirischen-kulturwissenschaft\nFür Studierende der Kritischen Kultur-
  und Religionsforschung und Empirischen Kulturwissenschaft\, dienstags\, 1
 4 bis 15 Uhr
LAST-MODIFIED:20260422T115906Z
LOCATION:A106 und A107\, Deutschhausstraße 3
URL:https://www.uni-marburg.de/de/fb03/ekw/aktuelles/termine/studienberatu
 ng-fuer-studierende-der-kritischen-kultur-und-religionsforschung-und-empir
 ischen-kulturwissenschaft
END:VEVENT
BEGIN:VTIMEZONE
TZID:Europe/Berlin
X-LIC-LOCATION:Europe/Berlin
BEGIN:DAYLIGHT
DTSTART:20260329T030000
TZNAME:CEST
TZOFFSETFROM:+0100
TZOFFSETTO:+0200
END:DAYLIGHT
END:VTIMEZONE
END:VCALENDAR
