BEGIN:VCALENDAR
VERSION:2.0
PRODID:-//Plone.org//NONSGML plone.app.event//EN
X-WR-TIMEZONE:Europe/Berlin
BEGIN:VEVENT
SUMMARY:"Stumme Schriftquellen und schweigende Gewährsperson" Methodische
  Ansätze zur kulturwissenschaftlichen Forschung mit und über Klänge - T
 homas Felfer
DTSTART;TZID=Europe/Berlin:20220524T181500
DTEND;TZID=Europe/Berlin:20220524T194500
DTSTAMP:20260421T172557Z
UID:540203532dce498fbf77d4c9ff759af9@www.uni-marburg.de
ATTENDEE;CN="Thomas Felfer (Graz)";ROLE=REQ-PARTICIPANT:Thomas Felfer (Gra
 z)
CREATED:20220422T085128Z
DESCRIPTION:https://www.uni-marburg.de/de/fb03/ekw/aktuelles/termine/stumm
 e-schriftquellen-thomas-felfer\n
LAST-MODIFIED:20240524T060951Z
LOCATION:Big Blue Button
URL:https://www.uni-marburg.de/de/fb03/ekw/aktuelles/termine/stumme-schrif
 tquellen-thomas-felfer
END:VEVENT
BEGIN:VTIMEZONE
TZID:Europe/Berlin
X-LIC-LOCATION:Europe/Berlin
BEGIN:DAYLIGHT
DTSTART:20220327T030000
TZNAME:CEST
TZOFFSETFROM:+0100
TZOFFSETTO:+0200
END:DAYLIGHT
END:VTIMEZONE
END:VCALENDAR
