BEGIN:VCALENDAR
VERSION:2.0
PRODID:-//Plone.org//NONSGML plone.app.event//EN
X-WR-TIMEZONE:Europe/Berlin
BEGIN:VEVENT
SUMMARY:Subjektivität trifft Erfahrung - (k)ein Perspektivwechsel? - Mart
 ina Röthl (Kiel)
DTSTART;TZID=Europe/Berlin:20220712T160000
DTEND;TZID=Europe/Berlin:20220712T180000
DTSTAMP:20260423T171306Z
UID:33a2bbd78a28425088a3d63d5e353924@www.uni-marburg.de
CREATED:20220429T113218Z
DESCRIPTION:https://www.uni-marburg.de/de/fb03/ekw/aktuelles/termine/subje
 ktivitaet-trifft-erfahrung-roethl\n
LAST-MODIFIED:20240524T060952Z
LOCATION:Oettingenstr. 67\, München oder Zoom
URL:https://www.uni-marburg.de/de/fb03/ekw/aktuelles/termine/subjektivitae
 t-trifft-erfahrung-roethl
END:VEVENT
BEGIN:VTIMEZONE
TZID:Europe/Berlin
X-LIC-LOCATION:Europe/Berlin
BEGIN:DAYLIGHT
DTSTART:20220327T030000
TZNAME:CEST
TZOFFSETFROM:+0100
TZOFFSETTO:+0200
END:DAYLIGHT
END:VTIMEZONE
END:VCALENDAR
