BEGIN:VCALENDAR
VERSION:2.0
PRODID:-//Plone.org//NONSGML plone.app.event//EN
X-WR-TIMEZONE:Europe/Berlin
BEGIN:VEVENT
SUMMARY:Symposium: „Kulturpolitik Inside-Out: Wettstreit der Narrative\,
  postkoloniale Debatten und Fragen der Transformation“
DTSTART;VALUE=DATE:20211028
DTEND;VALUE=DATE:20211029
DTSTAMP:20260424T121603Z
UID:38a793976d6a4ca9a9d1a88fa37924c9@www.uni-marburg.de
CREATED:20211005T135835Z
DESCRIPTION:https://www.uni-marburg.de/de/fb03/ekw/aktuelles/termine/sympo
 sium-kulturpolitik-inside-out-wettstreit-der-narrative-postkoloniale-debat
 ten-und-fragen-der-transformation\n
LAST-MODIFIED:20240524T060949Z
LOCATION:Universität Hildesheim und als paralleler Livestream (hybride Ve
 ranstaltung)
URL:https://www.uni-marburg.de/de/fb03/ekw/aktuelles/termine/symposium-kul
 turpolitik-inside-out-wettstreit-der-narrative-postkoloniale-debatten-und-
 fragen-der-transformation
END:VEVENT
END:VCALENDAR
